BEGIN:VCALENDAR
VERSION:2.0
PRODID:-//eventon.com NONSGML v1.0//EN
CALSCALE:GREGORIAN
METHOD:PUBLISH
BEGIN:VEVENT
UID:69e8b5c0b53f8
DTSTAMP:20260422T114920Z
DTSTART:20250414
DTEND:20250415
LOCATION:
SUMMARY:Teenfreizeit Süd 2025
DESCRIPTION:[vc_row][vc_column][vc_column_text]7 Tage Teenfreizeit bedeuten
  Spaß\,  Action\,  Freunde fürs Leben finden\,  einfach so sein wie man i
 st\,  Raum haben für Fragen\,  Gott erleben. Wir freuen uns auf dich! Alte
 r: 13-17 Jahre 14.4. - 20.4.2025 Hier geht es zur Anmeldung Hier geht es zu
 r Anmeldung [/vc_column_text][/vc_column][/vc_row]\nhttps://fbgg.de/blog/ev
 ents/teenfreizeit-sued-2025/
URL:https://fbgg.de/blog/events/teenfreizeit-sued-2025/
END:VEVENT
END:VCALENDAR